BEGIN:VCALENDAR
VERSION:2.0
PRODID:-//Katja Bubnič - ECPv6.15.20//NONSGML v1.0//EN
CALSCALE:GREGORIAN
METHOD:PUBLISH
X-ORIGINAL-URL:https://katjabubnic.com
X-WR-CALDESC:Dogodki za Katja Bubnič
REFRESH-INTERVAL;VALUE=DURATION:PT1H
X-Robots-Tag:noindex
X-PUBLISHED-TTL:PT1H
BEGIN:VTIMEZONE
TZID:Europe/Paris
BEGIN:DAYLIGHT
TZOFFSETFROM:+0100
TZOFFSETTO:+0200
TZNAME:CEST
DTSTART:20210328T010000
END:DAYLIGHT
BEGIN:STANDARD
TZOFFSETFROM:+0200
TZOFFSETTO:+0100
TZNAME:CET
DTSTART:20211031T010000
END:STANDARD
BEGIN:DAYLIGHT
TZOFFSETFROM:+0100
TZOFFSETTO:+0200
TZNAME:CEST
DTSTART:20220327T010000
END:DAYLIGHT
BEGIN:STANDARD
TZOFFSETFROM:+0200
TZOFFSETTO:+0100
TZNAME:CET
DTSTART:20221030T010000
END:STANDARD
BEGIN:DAYLIGHT
TZOFFSETFROM:+0100
TZOFFSETTO:+0200
TZNAME:CEST
DTSTART:20230326T010000
END:DAYLIGHT
BEGIN:STANDARD
TZOFFSETFROM:+0200
TZOFFSETTO:+0100
TZNAME:CET
DTSTART:20231029T010000
END:STANDARD
END:VTIMEZONE
BEGIN:VEVENT
DTSTART;TZID=Europe/Paris:20220503T080000
DTEND;TZID=Europe/Paris:20220503T170000
DTSTAMP:20260420T143746
CREATED:20220503T153955Z
LAST-MODIFIED:20220503T153955Z
UID:101639-1651564800-1651597200@katjabubnic.com
SUMMARY:ŽENSKI KROG: Samo iz Nežnosti se rodi resnična Moč
DESCRIPTION:ŽENSKI KROG: Samo iz \nNežnosti se rodi resnična Moč\n\n \n\n\n\n\n\n\n\n\n\n\n\n\n\nPo dolgem času te vabim na Ženski Krog\nKjer bomo spoznavale svoje notranje poljane nežnosti.\n\n\n\nUstvarile prostor\,\nda se bodo lahko sploh pokazale\,\nSkrite Pod težo oklepov\,\nNavideznega občutka moči in samozavesti\,\nIzza zidov\nIn iz telesa\, ki morda nič ne čuti\, ne nežnega ne strastnega ne bolečega.\n\nSkozi gib in ples\nbomo prebudile svoje telo\,\nSvoj glas\nin Prišle v stik z globljim delom sebe.\n\nZ zdravilnim dialogom bom prisluhnile druga drugi in se tako slišale še globlje.\nOdprle bomo vrata avtentičnosti\,\nKjer lahko odložimo maske in samo smo.\nV varnem prostoru Žensk.\n\nDraga Ženska\, mama\, partnerka\, babica\, teta\, hčerka\, podjetnica\, uslužbenka…oziroma v katerikoli vlogi že si… Boš to vlogo lahko pustila pred vrati in bila samo Ženska.\nZ vsem\, kar si.\nPridi\, da se znova začutiš\, vidiš in prebudiš v svoje telo.\nKoje napolnjena tvoja čaša\, slišano tvoje telo in prebujen užitek in radost v njem\, lahko spet zares daješ svetu.\nSvet nas potrebuje polne Ženske.\n\nCENA Ženskega Kroga je 27 eur.\n\nLOKACIJA? Lokacija bo v Ljubljani. Ob prijavi prejmeš naslov .\n\nKAJ POTREBUJEŠ?\nPrinesi svojo vodo\, dekico\, dnevnik in pisalo\, Udobno oblačilo in dolgo krilo (čez pajkice recimo).\n\nPRIJAVE na: katja@katjabubnic.com
URL:https://katjabubnic.com/event/zenski-krog-samo-iz-neznosti-se-rodi-resnicna-moc/
CATEGORIES:Sestrski Krog - Ženski Krog
END:VEVENT
BEGIN:VEVENT
DTSTART;TZID=Europe/Paris:20220527T170000
DTEND;TZID=Europe/Paris:20220529T170000
DTSTAMP:20260420T143746
CREATED:20220422T232526Z
LAST-MODIFIED:20220422T232526Z
UID:101605-1653670800-1653843600@katjabubnic.com
SUMMARY:DIVJA IN PRVINSKA S ČREDO KONJ - Vikend retreat
DESCRIPTION:VIKEND RETREAT\nDIVJA IN PRVINSKA S ČREDO KONJ\nSVOBODA\, DIVJINA\, GLOBOK MIR\,\nMEHKA PRISOTNOST\, ČUJEČNOST\, POVEZANOST\, PRVINSKOST \nPRASKETANJE OGNJA in  VONJ PO DIMU\,\nZVEZDE NA NEBU\nin SVOBODNI KONJI OKOLI NAS \nVABIM TE\, da se\nPovežeš s seboj\ns svojo prvinsko\, Divjo Naravo\,\nz Divjino odprtega Krasa \n\nin z Divjo naravo Konj\nin se nam pridružiš na edinstvenem tridnevnem retreatu za Ženske \nVEČ INFORMACIJ IN PRIJAVA TUKAJ: \nhttps://katjabubnic.com/retreat-divja-in-pristna-s-credo-konj-maj-2022/
URL:https://katjabubnic.com/event/divja-in-prvinska-s-credo-konj-vikend-retreat/
CATEGORIES:Delavnica,Sestrski Krog - Ženski Krog
ATTACH;FMTTYPE=image/png:https://katjabubnic.com/wp-content/uploads/2022/04/Copy-of-SESTRSTVO-DIVJE-VRTNICE.png
END:VEVENT
END:VCALENDAR