BEGIN:VCALENDAR
VERSION:2.0
PRODID:-//Katja Bubnič - ECPv6.15.20//NONSGML v1.0//EN
CALSCALE:GREGORIAN
METHOD:PUBLISH
X-ORIGINAL-URL:https://katjabubnic.com
X-WR-CALDESC:Dogodki za Katja Bubnič
REFRESH-INTERVAL;VALUE=DURATION:PT1H
X-Robots-Tag:noindex
X-PUBLISHED-TTL:PT1H
BEGIN:VTIMEZONE
TZID:UTC
BEGIN:STANDARD
TZOFFSETFROM:+0000
TZOFFSETTO:+0000
TZNAME:UTC
DTSTART:20180101T000000
END:STANDARD
END:VTIMEZONE
BEGIN:VEVENT
DTSTART;TZID=UTC:20191116T100000
DTEND;TZID=UTC:20191116T173000
DTSTAMP:20260422T120003
CREATED:20191029T113855Z
LAST-MODIFIED:20191114T065818Z
UID:813-1573898400-1573925400@katjabubnic.com
SUMMARY:Ženski Krog : Prebujanje Ženske Energije skozi Kristale\, Makrame in Ples
DESCRIPTION:Ženske potrebujemo svoje Ženske Kroge. Potrebujemo svoje Pleme. Skupnost\, kjer se počutimo sprejete takšne kot smo\, varne\, ranljive\, saj smo vse v procesu notranje rasti in luščenja zunanjih ovojev. \nPotrebujemo prostor\, kjer se lahko ustavimo\, in pustimo neskončen seznam\, kaj vse moramo\, tam nekje pred vrati\, ali pa še bolje doma. \nPotrebujemo prostor\, kjer se srečamo z Ženskami podobnih hrepenenj\, zanimanja in vizij… Hrepenimo po varnem prostoru\, kjer lahko odložimo svoja bremena\, ki jih vztrajno nosimo v strahu\, da če jih spustimo še me\, se bo vse porušilo. \nNaša Duša išče Prostor\, kjer lahko začutimo\, da se nam ni potrebno čutiti krive\, da čutimo\, kar čutimo\, da smo\, kar smo…pa čeprav se nam zdi\, da nimamo pojma\, kdo sploh Smo\, saj smo šele v bolečem Procesu postajanja me same… \n ZA VSE NAS PRIPRAVLJAM TAKŠEN KROG: ŽENSKI KROG: PREBUJANJE ŽENSKE ENERGIJE SKOZI KRISTALE\, MAKRAME USTVARJANJE IN PLES \n \nKrog Mehkobe in sprejemanja. Kjer ti ni treba biti ne umetnica ne plesalka. Zakaj? Ker imata tvoja Duša in Telo globoko v sebi (zakopano) željo po Ustvarjanju in Plesu.\nIn seveda… KROG USTVARJANJA MAKRAME NAKITA! \nČE TI JE SRCE VZTREPETALO OB ZGORAJ ZAPISANIMI BESEDAMI\, KAR NADALJUJ…IN SI ŽE REZERVIRAJ SOBOTO\, 16.11. 2019.\, 10-17.30h \nŽenske smo po naravi USTVARJALKE. Naše roke so podaljšek našega srca…ki dajejo objeme\, božajo\, tolažijo in tako zelo rade…USTVARJAJO. \nNaj vam zaupam skrivnost\, ustvarjanje (vsaj pri Ženskah) ni talent. Je naravni dar\, s katerim smo se rodile vse. Morda ga samo še nismo prebudile\, ga sploh našle ali mu dale priložnost\, da zaživi. Sicer ne pravim\, da bomo vse velike slikarke\, velike kiparke ali ustvarjalke nakita(saj imamo hvala bogu različne vizije in poslanstva)… toda\, ustvarjalni duh živi v vsaki izmed nas in išče svoj izraz! \nZATO TE VABIM\, DRAGA MOJA\,v svet KRISTALOV IN MAKRAMEJA\, kjer se v prepletanju tega dvojega rodi tvoja čudovita osebna OGRLICA . MAKRAME OGRLICA S KRISTALOM.\nPrebudile bomo tudi svoje telo…ga omehčale in mu povrnile zaupanje vase… prebudile v njemu njegovo naravno željo po PLESU..po gibanju – in po SVOBODI. DA SMO KAR SMO. In tudi pravico\, da je OK\, če smo šele v procesu nastajanja oziroma oblikovanja nas samih\, saj se tako rade VSE PO VRSTI ujamemo v primerjanje z drugimi. \nTorej…da poskusim na kratko strniti\, kaj boš v tej celodevni delavnici\, ŽENSKEM – USTVARJALNO PLESNEM KROGU pridobila: \n?1.del: 10.00- 13.00h UVOD\, KRISTALI\, ORAKELJ\n?Varen prostor – krog\, kjer se povežemo\, spoznamo\, odpremo in ustavimo čas \n?Raziskovanje svoje Ranjene Deklice in Zdrave Matere – spoznavanje arhetipov Ranjena Deklica – Zdrava Mati /oziroma Princeska – Kraljica \n?Sporočila iz orakeljskih kart/nordijskih run \n?Uvod v svet kristalov: vrste\, značilnosti\, čiščenje kristalov… \n13 -14h PAVZA ZA KOSILO – Mizica pogrni se: vsaka prinese nekaj že pripravljenega za skupno kosilo (lahko tudi kruh\, sir\, namaz\, sveža zelenjava za zraven…) \n?2.del: 14-17.30h USTVARJANJE OSEBNE MAKRAME OGRLICE\, PLES\, ZAKLJUČNI KROG\n?Ustvarjanje svoje makrame ogrlice s kristalom korak za korakom\nz menoj\, ki te potrpežljivo popravljam in skripto z navodili \n?Čas za Ples – počasi bomo prebudile svoje telo in ga povabile v (skupni) Ples \n?Zaključni Krog – podelimo svoja občutenja in izkušnjo. \n♥ Na koncu boste imele možnost nakupa kristalov\, povoščenih vrvic\, da boste z ustvarjanjem nadaljevale čim prej doma! \n?❤ PRISPEVEK IN INVESTICIJA VASE: ?\nZadnji mesec se bolj kot kdajkoli prej učim zaupanja v notranje vodstvo….v šepet svoje Duše in ji zaupam\, da me vodi!\nKot sem zgoraj pisala\, čutim\, kako pomembno je\, da se Ženske združujemo v Krogih…Ene začutite mene\, spet druge nekoga drugega. In prav je tako. Normalno je. NIsmo vse vsem všeč… \nToda\, ljuba moja Ženska\, če čutiš\, da te lahko v čem podprem ravno jaz in da je ravno “moj” Krog\, Ženski Krog tisti\, v katerem se boš počutila varno\, mirno in odprto\, pridi.\nDa bo naše druženje čim bolj dostopno\, sem se odločila\, da ti ga ponudim s popustom. \n\nPrav si slišala.\nNamesto 144eur za celodnevni Krog in učenje makrameja\, \n sem se odločila ponuditi po ceni 111eur <3\nz VSEMI BONUSI IN DARILI\, KI SO NAŠTETI V OPISU DOGODKA.\nZato se še danes prijavi…kajti…več zaceljenih in svobodnih žensk…pa smo korak bližje k zdravi in srecni Pachamami <3 \n\nPoleg materiala za ustvarjanje\, ki ga dobite že vštetega v ceno (kristal po lastni izbiri\, vrvice in kroglice)\, dobite še: \n\n?SVOJ DODATNI PAKETEK za domov.\nS KRISTALOM\, VRVICAMI IN KROGLICAMI \n?In ŠE EN DODATNI ZAVITEK NAJBOLJSE POVOSCENE VRVICE LINHASITA.\nzato da lahko z ustvarjanjem nadaljujete takoj ♥ ♥ ♥ \n?❤ Prijave in dodatne informacije na: katja@katjabubnic.com \n??? P.S. Tale Ženski Krog je predpogoj za decembrsko poglobljeno potapljanje v Žensko Energijo…skozi poglobljeno nadaljevalno ustvarjanje makrame ogrlic in tudi Plesa ♥ \nhttps://www.facebook.com/events/500732133991535/ \nToplo dobrodošle ljube Ženske….da skupaj končno začenjamo spreminjati svet ♥ Vse se začne pri nas…več ljubezni\, sočutja do sebe…boljše delovanje v odnosih in svetu ♥ \nVeselim se te\,\nKatja Bubnič \nOrganizator dogodka je Zavod Glas.
URL:https://katjabubnic.com/event/zenski-krog-prebujanje-zenske-energije-skozi-kristale-makrame-in-ples/
CATEGORIES:Delavnica,Makrame ustvarjanje,Ples
ATTACH;FMTTYPE=image/png:https://katjabubnic.com/wp-content/uploads/2019/10/Ustvarjalni-Krogi-Naravne-Ženske3.png
END:VEVENT
END:VCALENDAR