BEGIN:VCALENDAR
VERSION:2.0
PRODID:-//Katja Bubnič - ECPv6.15.20//NONSGML v1.0//EN
CALSCALE:GREGORIAN
METHOD:PUBLISH
X-ORIGINAL-URL:https://katjabubnic.com
X-WR-CALDESC:Dogodki za Katja Bubnič
REFRESH-INTERVAL;VALUE=DURATION:PT1H
X-Robots-Tag:noindex
X-PUBLISHED-TTL:PT1H
BEGIN:VTIMEZONE
TZID:UTC
BEGIN:STANDARD
TZOFFSETFROM:+0000
TZOFFSETTO:+0000
TZNAME:UTC
DTSTART:20180101T000000
END:STANDARD
END:VTIMEZONE
BEGIN:VEVENT
DTSTART;TZID=UTC:20190510T183000
DTEND;TZID=UTC:20190510T203000
DTSTAMP:20260422T202423
CREATED:20190412T053427Z
LAST-MODIFIED:20190412T054131Z
UID:653-1557513000-1557520200@katjabubnic.com
SUMMARY:Plesni Krog Naravne Ženske
DESCRIPTION:?PLESNI KROGI NARAVNE ŽENSKE? \nZačuti\, oživi in zaživi Naravno Žensko v sebi \n?Vsaka Ženska v sebi nosi Ples.\nMorda te razganja že ob sami misli na Ples in komaj čakaš\, da se začne glasba\, da se ji lahko predaš.\nMorda te ob besedi Ples grenko stisne v želodcu\, ko si rečeš\, ne\, to pa ni zame.\nMorda z veseljem pogledaš žensko\, ki uživa v plesu.\nMorda si misliš\, kaj neki se tale afna in nastavlja.\nMorda je ples zate oblika življenja.\nMorda imaš občutek\, da plesala nisi še nikoli. \n?Vendar ti zagotavljam\, da je PLES v tebi… doma. V vsaki izmed nas. (o tem\, zakaj sveto verjamem v to\, bom pisala en drug dan). \nIn naša Naravna Ženska\, naša sočnost\, svoboda\, spontanost\, senzualnost\, divjost\, magnetičnost\, čarobnost\, pa tudi mehkoba\, nežnost\, milina se želijo izraziti skozi gib\, skozi glasbo…skozi tvoje telo v prepletu z glasbo.\nIn to je Ples. \n?VABIM TE na naše PLESNE KROGE NARAVNE ŽENSKE\, kjer se bomo srečevale enkrat mesečno in ustvarile varen prostor za raziskovanje svojega telesa\, za odpiranje in Ples. Povabile bomo UŽITEK v svoje življenje. Užitek\, ja…ta sladek občutek\, ko se ustavi čas in si polno hvaležna\, da živiš. Užitek\, brez slabe vesti! \n?Začnemo z uvodnim Krogom in vsem\, kar mu pritiče\, da se povežemo in odpremo. Naredimo vajo\, nalogico\, ki jo vsakič sproti pripravim\, da se potopimo še globlje vase…in potem smo pripravljene\, da vse to utelesimo\, se sovobodimo in UŽIVAMO! \n?Ustvarile bomo varen prostor za SVOBODNI ples\, kjer boš raziskovala svoj izraz\, kjer boš morda iskala in našla dele sebe\, ki jih sploh še ne poznaš. \nNaš Krog bo namenjen Tebi\, ki globoko v sebi hrepeniš po prebujanju svojih bokov\, topotanju nog\, prepletanju rok in osvobajanju vratu in las. Kajti Ples je čudovito orodje\, da nas zopet postavi v Žensko energijo\, ki nam je v tem drvečem\, moško delujočem svetu\, še kako manjka! \n?ENKRAT MESEČNO SE LAHKO PRIPELJEŠ IZ KATEREGA KOLI KRAJA IZ SLOVENIJE  (V naši FB skupini Pleme Divje Ženske\, se lahko med seboj dogovorite za prevoze https://www.facebook.com/groups/343311992917206/ \nVesela sem\, ker se oblikuje skupina razvejane starosti mladih in zrelih žensk\, a zagotovo pogumnih in pripravljenih\, da v svoje življenje pripeljejo več ŽENSTVENOSTI\, PRETOČNOSTI\, SVOBODE IN UŽITKA. \nEdino pravilo je\, da si prineseš dolgo krilo\, kajti iz dolgoletnih izkušenj vem\, da dolgo krilo dela čudeže. Ko se ga oblečeš in že samo hodiš\, se pod njim in okoli tebe ustvarja prav živa energija…in ko ji dodaš glasbo\, nekaj gibov-že imaš Plešočo Žensko ♥ \nPovabim te\, da po želji prineseš nakit\, v katerem se počutiš lepo\, ki poudari tvojo kraljevskost\, zapeljivost\, tvojo ženstvenost. \nPlesale bomo bose\, oziroma v nagležnicah in bosonogih japonkah\, če jih imaš. (nekaj jih bo na voljo tudi za nakup). Morda kvečjemu v nogavicah\, če ti bo res mraz v stopala. \nVzele si bomo čas zase. Za svojo notranjo Naravno Žensko.\nIn tako\, ko bomo nahranile sebe\, se bomo vrnile polnejše\, bolj zadovoljne v svoje družine in naši odnosi s partnerji in otroki bodo postali lažji in pretočnejši. \n?? Ker smo na prvem Plesnem Krogu ugotovile\, da nam je prvotno mišjena ura in pol premalo\, sem za isto ceno rezervirala našo dvoranico za polni dve uri\, plus še malo druženja na terasici na koncu. \nCena posameznega Plesnega Kroga je 20 eur\, ki se poravna na samem dogodku.\nPRJAVE SO OBVEZNE IN SICER NA SPODNJI POVEZAVI:\nhttps://mailchi.mp/6f06fbda08cc/plesnikrog \nProsim bodi točna\, da se skupaj povežemo in vstopimo v Ples.\nVeselim se Te in sem ponosna nate\, da boš naredila nekaj ZASE.. \nKatja
URL:https://katjabubnic.com/event/plesni-krog-naravne-zenske/
CATEGORIES:Ples
ATTACH;FMTTYPE=image/png:https://katjabubnic.com/wp-content/uploads/2019/04/Plesni-krogi-Naravne-Ženske3.png
END:VEVENT
BEGIN:VEVENT
DTSTART;TZID=UTC:20190528T170000
DTEND;TZID=UTC:20190528T190000
DTSTAMP:20260422T202423
CREATED:20190515T064154Z
LAST-MODIFIED:20190515T064154Z
UID:681-1559062800-1559070000@katjabubnic.com
SUMMARY:Ustvarjalni Krogi Naravne Ženske - Nagležnica za plešočo Boginjo
DESCRIPTION:MAKRAME USTVARJALNI KROGI \nTo so krajši ustvarjalni krogi\, namenjeni vsem vam \,ki si želite res samo ustvarjati. Pa nimate časa za daljša ustvarjalna druženja. \nV sklopu štirh ponedeljkov (zadnji ponedeljek v mesecu)\, bomo ustvarile 4 kose MAKRAME NAKITA: ZAPESTNICO ZVESTOBE SEBI\, NAGLEŽNICO ZA PLEŠOČO BOGINJO\, UHANE MORSKE DEKLICE; na zadnjem Ustvarjalnem Krogu pa se bomo skupaj odločile\, kaj bi najraje počele 🙂 \nNaredile bomo krog in se povezale ter skupaj ustvarjale\, tako\, kot so ženske to počele od vedno. Ženske včasih niso imele časa za umik v samoto in meditacijo v tišini\, tako kot moški. Zato je naša psiha razvila sposobnost\, da meditiramo med ustvarjalnim delom\, lahko tudi med kuhanjem in pospravljanjem…če je naša misel le usmerjena in polno prisotna v tem kar počnemo. Tako zadostimo dvema potrebama Ženske Duše: potrebi po meditaciji in po biti koristna. Juhej. In to z lahkoto in UŽIKOM! OLE! \nIn ko se Ženske združujemo\, povezujemo\, se v nas krepi jo občutek pripadnosti\, varnosti\, med pogovori ugotovimo\, da nismo edine ki se nam določene stvari dogajajo…In šele ko spregovorimo\, se odpremo\, uvidimo\, da vse le ni tako težko\, in da nismo same\, ampak da gremo vse ženske skozi bolj ali manj podobne procese te dni. Tako se v Krogu podpiramo\, poslušamo\, soustvarjamo in družimo! \nIn makrame ustvarjanje je čudovit sopotnik\, ki poboža našo dušo kjerkoli: doma\, v naravi\, na morju\, na postaji\, medtem\, ko čakaš na avtobus… S Seboj imaš svojo ustvarjalno torbico in lahko kjerkoli uživaš 🙂 \n?KOMU JE NAMENJENA DELAVNICA??\nDelavnica je namenjena TEBI\, če : \n?si želiš najti način\, kako umiriti svoje misli\,\n?si želiš prebuditi starodavno ustvarjalno energijo v svojih rokah\n?se želiš naučiti makramé umetnosti\n?še nič ne ustvarjaš\, pa v sebi čutiš željo\, da nekaj pa le bi\n?bi rada v času prihajajočih praznikov in dopustov podarila darila narejena s svojimi rokami in ljubeznijo\n?iščeš dodatni zaslužek z delom\, ki združuje prijetno s koristnim\n?se želiš povezati s podobno mislečimi ženskami\n?imaš rada Lepoto\, te privlači senzualnost Orienta\, Indije in moč narave?\n?si pripravljene v svoje življenje povabiti nekaj novega\n?si želiš vzeti čas zase in imeti nov pomirjujoč konjiček\n?bi rada s svojimi hčerkami ali vnučkami skupaj ustvarjala\n?Katera koli generacija si….si srčno dobrodošla!? \nOBVEZNA PRIJAVA NA TEJLE POEZAVI:\nhttps://mailchi.mp/ff0fa0d9e456/ustvarjalnikrogi \nVESELIM SE TE ♥ VSEH NAS!\nKatja
URL:https://katjabubnic.com/event/ustvarjalni-krogi-naravne-zenske-nagleznica-za-plesoco-boginjo/
CATEGORIES:Makrame ustvarjanje
ATTACH;FMTTYPE=image/png:https://katjabubnic.com/wp-content/uploads/2019/04/Ustvarjalni-Krogi-Naravne-Ženske.png
END:VEVENT
END:VCALENDAR