BEGIN:VCALENDAR
VERSION:2.0
PRODID:-//Katja Bubnič - ECPv6.15.20//NONSGML v1.0//EN
CALSCALE:GREGORIAN
METHOD:PUBLISH
X-WR-CALNAME:Katja Bubnič
X-ORIGINAL-URL:https://katjabubnic.com
X-WR-CALDESC:Dogodki za Katja Bubnič
REFRESH-INTERVAL;VALUE=DURATION:PT1H
X-Robots-Tag:noindex
X-PUBLISHED-TTL:PT1H
BEGIN:VTIMEZONE
TZID:UTC
BEGIN:STANDARD
TZOFFSETFROM:+0000
TZOFFSETTO:+0000
TZNAME:UTC
DTSTART:20180101T000000
END:STANDARD
END:VTIMEZONE
BEGIN:VEVENT
DTSTART;TZID=UTC:20190324T100000
DTEND;TZID=UTC:20190324T180000
DTSTAMP:20260422T225104
CREATED:20190226T090937Z
LAST-MODIFIED:20190226T091648Z
UID:596-1553421600-1553450400@katjabubnic.com
SUMMARY:Kristalno Srce– umetnost izdelave makrameja
DESCRIPTION:Ženska\, Ustvarjalne roke\, Makrame in Magični kristali \nKaj imajo skupnega kristali in ženske? \nMislim\, da bi vsi v prvi sapi najprej odgovorili: NAKIT. \nSicer imamo rade kristale vsepovsod: v domu\, v skritih žepkih\, na oltarčku\, celo na vrtu in v cvetlicah…vendar sem prepričana\, da ga najraje nosimo okoli vratu\, ušesnih mečicah ali zapestju\, kajne? \nŽenske imamo v sebi prirojen občutek za Lepoto\, naravni dar za Ustvarjanje in umetnost ter ljubezen do narave in njenih posebnih glasnikov – Kristalov! \nIn makrame je čudovita veja umetnosti\, kjer se lahko srečata kristal in vrvica\, ter z nekaj znanja že nastane čudovita ogrlica. \nDolgo časa sva obe v sebi nosili željo\, da se najino znanje o kristalih in makrame umetnosti prepleteta\, da vam ponudiva VEČ. Da vam ponudiva dvojno znanje in dvojne izkušnje na ENI delavnici. \nIn tako je nastala intenzivna celodnevna delavnica\, KRISTALNO SRCE – umetnost izdelave makrameja\, kjer se prepletajo ŽENSKA esenca\, njene USTVARJALNE ROKE\, čudovita veja umetnosti MAKRAME in MAGIČNI KRISTALI. \nGordana Lesjak vas bo popeljala v skrivnostni svet kristalov\, Katja Bubnič pa vas bo posvetila v makrame ustvarjalke. \n\nProgram delavnice: \ndel: Magični kristali v našem vsakdanjem življenju (vodi Gordana Lesjak) \nLjudje že od nekdaj čudovite in skrivnostne kristale uporabljamo za okras\, zaščito in zdravljenje. Cenimo jih zaradi njihovih čarovnih in duhovnih moči. Njihova moč izhaja iz načina njihovega nastanka. Koristne lastnosti kristalov izvirajo iz njihove energije. Žlahtni kristali so bili nepogrešljiv dodatek v kronah\, prstanih\, mečih\,… ki so jih nosili vladarji. Zdravilci in šamani so kristale uporabljali kot amulete\, za zaščito in zdravljenje. \nKristali zaradi svoje lepote\, zaradi vibracije\, ki jo oddajajo in jo ženske zaradi svoje občutljivosti bolje zaznavamo – od nekdaj zasedajo pomembno mesto v našem življenju. \nNa tej intenzivni enodnevni delavnici se boste naučile: \n– Osnovno o kristalih (lastnosti kristalov\, pomen barv pri kristalih\, delovanje kristalov\,..)\n– Kako poskrbeti za kristale (čiščenje in energijsko aktiviranje kristalov)\n– Kako izbrati kristale\n– Kako izbrati kristal zase\n– Kako uporabljati energijo kristalov \nUčinek kristalov lahko primerjamo z učinkom glasbe – ko smo slabe volje\, nas bo neka glasba spravila v dobro voljo; ko pa smo razdraženi – takrat potrebujemo glasbo za umiritev. Tako je tudi s kristali – kristale izbiramo glede na naš namen. \nKo smo nemirni\, nervozni\, ali se čutimo ogroženi … takrat izberemo Kristale MIRU. \nKristale JASNOSTI izberemo\, ko se želimo povezati s svojim bistvom\, s svojim telesom\, ko si želimo povezovanja z nesnovnimi nivoji bivanja. \nNaučili se boste kako vstopiti v kristal in aktivirati zaščito. \nIzvedle bom kristalno meditacijo. \nPo prvem delu delavnice\, si bomo vzele čas za kosilo. \n2. del: Ženska ustvarjalna energija in izdelava makrame ogrlice s kristalom (vodi Katja Bubnič): \n \nVerjamem\, da vsaka ženska v sebi nosi Ustvarjalko. Tako\, kot smo obdarjene z maternico\, ki je nosilka življenja\, smo obdarjene z rokami\, ki v sebi nosijo starodavne spomine na ustvarjanje. Roke so podaljšek našega srca in te naše ljube roke lahko ustvarijo toliko lepega! \nUstvarjanje je hkrati tudi meditacija. Meditacija po žensko\, kot imam navado reči. Saj je vsa naša pozornost usmerjena v eno stvar\, ki nam boža dušo\, hkrati pa nam ta meditacija prinese tudi čudovit\, konkreten izdelek\, zase ali za naše najdražje! \nIn Makrame je veja umetnosti\, ki je morda manj poznana pa morda ravno zaradi tega toliko bolj skrivnostna. Makrame je starodavna umetnost vozlanja. Torej po domače\, različne vrvice se med seboj prepletajo in z vozlički ustvarjajo najrazličnejše zgodbe. \nNa naši delavnici bomo pripovedovale zgodbo s Kristalom. \nVsaka izmed vas si bo po uvodnem delu\, kjer se boste bolje spoznale s kraljestvom kristalov ter njihovim delovanjem\, lahko izbrala kristal po srčnem navdihu. \nJaz pa bom z vami podelila prve trdne korake v svet makrameja. \nNaučile se boste: \n– Osnovne makrame vozličke\n– kako se izdela trdna mrežica za vaš najljubši kristal\n– kako potem ustvarimo celotno ogrlico\n– z vami bom podelila svoje male trike in bogate izkušnje\, vsako posebej popravljala in podpirala\, da boste res zadovoljne s svojo kreacijo! \nTo znanje je nekaj\, kar vam lahko res odlično služi\, saj lahko ustvarjate makrame nakit za svoje najbližje\, morda pa to postane celo vaše poslanstvo in se boste preživljale z ustvarjanjem makrame nakita! \nDELAVNICO BOMO ZAKLJUČILE S PLESOM ZA DUŠO. \n \nZato vam polagam na srce\, da na našo delavnico pridete oblečene v (dolgo) krilo… Boste videle\, kako se naša energija spremeni in naravna na žensko energijo že samo s tem\, ko oblečemo (dolgo) krilo. \nKomu je delavnica namenjena ? \n– vsem Ženskam\, ki imate rade kristale\, vas zanimajo in si želite -vedeti o njih še kaj več;\n– vsem\, ki že delate s kristali\, pa vam še nekaj manjka;\n– vsem ženskam\, ki rade ustvarjate;\n– vsem ženskam\, ki se vam zdi\, da nimate ustvarjalnega daru\, pa vas vseeno kliče makrame umetnost in njen ples s kristali – jaz sem imela od vedno dve levi roki! Šele skozi makrame ustvarjanje sta postali skoraj dve desni;\n– vsem\, ki ste že kdaj ustvarjale (makrame) nakit s kristali pa bi rade obnovile svoje znanje ter ga nadgradile z znanjem o kristalih samih;\n– vsem Ženskam\, ki imate rade srčno in povezovalno žensko druženje;\n– vsem Ženskam\, ki morda iščete svojo pot pa vas zanimajo kristali in makrame;\n– in še vsem vam\, ki vas delavnica kliče\, pa še same ne veste zakaj!!! \nVse\, prav VSE ste dobrodošle! \nDelavnico vodiva Gordana Lesjak in Katja Bubnič \nPrispevek: 166 eur \nOBVEZNE PRIJAVE NA:\nhttp://www.notranjasvetloba.com/event/delavnica-kristalno-srce-umetnost-izdelave-makrameja/?instance_id=905
URL:https://katjabubnic.com/event/kristalno-srce-umetnost-izdelave-makrameja/
ATTACH;FMTTYPE=image/jpeg:https://katjabubnic.com/wp-content/uploads/2019/02/srce1.jpg
END:VEVENT
BEGIN:VEVENT
DTSTART;TZID=UTC:20190328T173000
DTEND;TZID=UTC:20190328T190000
DTSTAMP:20260422T225104
CREATED:20190322T103157Z
LAST-MODIFIED:20190322T105010Z
UID:615-1553794200-1553799600@katjabubnic.com
SUMMARY:Brezplačni uvod v Plesne kroge Naravne Ženske
DESCRIPTION:?PLESNI KROGI NARAVNE ŽENSKE? \nZačuti\, oživi in zaživi Naravno Žensko v sebi \n?Vsaka Ženska v sebi nosi Ples.\nMorda te razganja že ob sami misli na Ples in komaj čakaš\, da se začne glasba\, da se ji lahko predaš.\nMorda te ob besedi Ples grenko stisne v želodcu\, ko si rečeš\, ne\, to pa ni zame.\nMorda z veseljem pogledaš žensko\, ki uživa v plesu.\nMorda si misliš\, kaj neki se tale afna in nastavlja.\nMorda je ples zate oblika življenja.\nMorda imaš občutek\, da plesala nisi še nikoli. \n?Vendar ti zagotavljam\, da je PLES v tebi… doma. V vsaki izmed nas. (o tem\, zakaj sveto verjamem v to\, bom pisala en drug dan). \nIn naša Naravna Ženska\, naša sočnost\, svoboda\, spontanost\, senzualnost\, divjost\, magnetičnost\, čarobnost\, pa tudi mehkoba\, nežnost\, milina se želijo izraziti skozi gib\, skozi glasbo…skozi tvoje telo v prepletu z glasbo.\nIn to je Ples. \n?VABIM TE na naše PLESNE KROGE NARAVNE ŽENSKE\, kjer se bomo srečevale enkrat mesečno in ustvarile varen prostor za raziskovanje svojega telesa\, za odpiranje in Ples. Povabile bomo UŽITEK v svoje življenje. Užitek\, ja…ta sladek občutek\, ko se ustavi čas in si polno hvaležna\, da živiš. Užitek\, brez slabe vesti! \n❤Ustvarile bomo varen prostor za SVOBODNI ples\, kjer boš raziskovala svoj izraz\, kjer boš morda iskala in našla dele sebe\, ki jih sploh še ne poznaš. \nNaš Krog bo namenjen Tebi\, ki globoko v sebi hrepeniš po prebujanju svojih bokov\, topotanju nog\, prepletanju rok in osvobajanju vratu in las. Kajti Ples je čudovito orodje\, da nas zopet postavi v Žensko energijo\, ki nam je v tem drvečem\, moško delujočem svetu\, še kako manjka! \n?ENKRAT MESEČNO SE LAHKO PRIPELJEŠ IZ KATEREGA KOLI KRAJA IZ SLOVENIJE (ob prijavi mi napiši\, od kod si\, da vas lahko povežem med seboj za prevoze). \nVesela sem\, ker se oblikuje skupina razvejane starosti mladih in zrelih žensk\, a zagotovo pogumnih in pripravljenih\, da v svoje življenje pripeljejo več ŽENSTVENOSTI\, PRETOČNOSTI\, SVOBODE IN UŽITKA. \nEdino pravilo je\, da si prineseš dolgo krilo\, kajti iz dolgoletnih izkušenj vem\, da dolgo krilo dela čudeže. Ko se ga oblečeš in že samo hodiš\, se pod njim in okoli tebe ustvarja prav živa energija…in ko ji dodaš glasbo\, nekaj gibov-že imaš Plešočo Žensko ♥ \nPovabim te\, da po želji prineseš nakit\, v katerem se počutiš lepo\, ki poudari tvojo kraljevskost\, zapeljivoST\, tvojo ženstvenost. \nPlesale bomo bose\, oziroma v nagležnicah in bosonogih japonkah\, če jih imaš. (nekaj jih bo na voljo tudi za nakup). Morda kvečjemu v nogavicah\, če ti bo res mraz v stopala. \nVzele si bomo čas zase. Za svojo notranjo Naravno Žensko.\nIn tako\, ko bomo nahranile sebe\, se bomo vrnile polnejše\, bolj zadovoljne v svoje družine in naši odnosi s partnerji in otroki bodo postali lažji in pretočnejši. \n?? Prva ura UVODNI PLESI KROG\, 28.3.2019\, (IZJEMOMA: 17.30 – 19H) je brezlpačna.\nPrihajajoči mesečni datumi do poletja so sledeči:\n• 4.4.2019: 17-18.30h\n• 9.5.2019: 17-18.30h\n• 6.6.2019: 17-18.30h\n• 4.7.2019: 17-18.30h\nCena posameznega Plesnega Kroga je 20 eur.\nPOPUST: Cena vseh štirih plesnih krogov pa je 75 eur.?? \nPRJAVE SO OBVEZNE IN SICER NA SPODNJI POVEZAVI:\nhttps://mailchi.mp/86887d6106f2/plesnikrogi \nProsim bodi točna\, da se skupaj povežemo in vstopimo v Ples.\nVeselim se Te in sem ponosna nate\, da boš naredila nekaj ZASE.. \nKatja
URL:https://katjabubnic.com/event/brezplacni-uvod-v-plesne-kroge-naravne-zenske/
LOCATION:Dansana\, Vrtača 11\, Ljubljana\, 1000\, Slovenia
CATEGORIES:Ples
ATTACH;FMTTYPE=image/png:https://katjabubnic.com/wp-content/uploads/2019/03/Plesni-krogi-Naravne-Ženske.png
END:VEVENT
BEGIN:VEVENT
DTSTART;TZID=UTC:20190330T170000
DTEND;TZID=UTC:20190330T210000
DTSTAMP:20260422T225104
CREATED:20190226T090805Z
LAST-MODIFIED:20190324T051048Z
UID:592-1553965200-1553979600@katjabubnic.com
SUMMARY:Ženski Krog –ples Svobodne in Čutne Ženske
DESCRIPTION:Ljuba moja Divja\,Mila\, Svobodna Ženska! \nMorda misliš\, da nisi ne eno\, ne drugo\, toda… tvoja Duša vse to JE! \nIn…v tem vsakdanu\, kjer se čas meri že na sekunde\, kjer izgubljaš tla pod nogami med vlogami mame\, partnerke\, hčerke\, uslužbenke\, šefice; skrbiš za hišo\, vrt\, paziš na zdravo prehrano in\, se nima časa USTAVITI. \nZadihati. Se začutiti. In samo BITI. Kjer si DOVOLJ. Kjer si Cela in popolna že zdaj. Kjer SI že vse\, kar si želiš biti… \nKajti…Duša je doma v Telesu. In šele\, ko začutiš svoje telo\, si res Doma. Lahko slediš. In takrat odpade vse nepotrebno. Znaš reči NE\, znaš postaviti zdrave in ljubeče meje. In veš tudi\, kdaj in za koga pa se je vredno potruditi. \nTa ŽENSKI KROG je namenjen Tebi\, ki ti je Duša vzdrhtela ob zgoraj napisanem.\nPripravila sem ga v dveh delih.\nLahko prideš samo na enega ali pa na oba.\nJaz VEM\, da boš največ dobila\, če prideš na oba dela in si podariš IZKUŠNJO svobodne\, mile\, Divje sebe\, v sebi Prebudiš Ustvarjalko\, ki to si itak že po naravi. Ker si pač Ženska. \n?1.del USTVARI SI MAKRAME NAGLEŽNICO ZA PLEŠOČO BOGINJO \nSi že kdaj opazila\, da ima veliko Indijk\, ki so tako Lepo oblečene v svojih sarijih\, okoli gležnjev nakit? Jaz mu pravim NAGLEŽNICE. In večina Indijskih boginj ima nagležnice na svojih gležnjih\, saj so poseben simbol lepote. Povezujejo se s plesom\, s čaščenjem Življenja! \n17-18.30h te naučim\, kako si izdelaš prav takšno nagležnico\, kot jih sama prodajam (lani sem jih jih izdelala in prodala okoli 100).\nV tem ustvarjalnem procesu boš videla\, se boš iz glave preselila lepo v svoje Telo\, kjer je tvoja Duša doma. Umirila se boš in si izdelala čudovit nakit za Ples\, ki bo sledil. \n? 2. DEL: ŽENSKI KROG –PLES SVOBODNE IN ČUTNE ŽENSKE\n19h-21h\nPles je ena najboljših meditacij\, je svoboda\, je zdravljenje\, je užitek\, je srečanje z drugim\, je orgazem\, je mir…\nNa našem plesu bomo plesale SVOBODNO. Brez pričakovanj. Nismo plesalke (profesionalne)\, pa vendar smo VSE PLESALKE. VSE ŽENSKE SMO PLESALKE PO NARAVI. Vsi ljudje\, drage moje\, imamo PLES vtkan v svoj DNK\, kajti dan nam je bil za ČAŠČENJE ŽIVLJENJA. Za hvaležnost Pachamam in očetu Soncu za to čudovito izkušnjo bivanja na Zemlji. \nDan nam je bil\, da ozdravimo svoje bolečine\, da jih stresemo iz telesa in izplešemo ven.\nPles nam je dan tudi zato\, da se srečamo drug z drugim in podelimo to vse Lepo\, kar imamo v sebi…in česar vse prepogosto sploh ne vidimo. \nPridi ljuba moja Sestra\, Ženska.\nOdvrgle bomo maske pričakovanj naše družbe in se srečale same s seboj v UŽITKU\, v gibu in druga z drugo. \nIZMENJAVA ENERGIJ:\n1.DEL: USTVARI SI NAGLEŽNICO ZA PLEŠOČO BOGINJO:40eur\n2.del: Ženski Krog –ples Svobodne in Čutne Ženske: 20eur\n♥ CELOTEN DOGODEK: 50 EUR ♥ \nPrijava je obvezna na spodnji povezavi: \nhttps://mailchi.mp/9615d40b9ced/makrameustvarjanjeinples \nVesela bom\, če boste tale dogodek delile v svoj Krog Prijateljic\, Žensk\, saj vse potrebujemo ples\, in obuditi svoje ustvarjalne roke! Vabljene Štajerke in Prekmurke\, pa tudi katera iz Ljubljane se lahko pelje z menoj! \nTopel objem\,\nKatja \nKaj potrebuješ? \nVodo\, joga podlogo ali dekico( za konec)\, (dolgo) KRILO\, lahko tudi plet ali ruto.\nPrinesi si tudi nakit\, karkoli v čemer se počutiš Kraljico.\nVse\, ki pridete že na prvi del delavnice\, si prinestite kaj za prigrizniti.\nPlesale bomo bose. \nLjube\, predvsem pa ne skrbite\, če MISLITE\, da ne znate plesati\, če niste že dolgo časa plesale. Ne razmišljajte o tem\, kajti jaz že vem\, kako bom izvabila iz vas tisto Plešočo Žensko\, ki je nekje skrita. In naj vam prišepnem\, da jaz SPLOH nisem plesalka\, nimamo nobene izobrazbe plesne\, zelo zelo sem se ukrarjala s tem\, kao izgledam med plesom in bila celo otroštvo in velik del najstništva prepričana\, da ne znam plesati.\nDanes sem se tega osvobodila in mi je prav vseeno\, kako izgledam med plesom\, glavno je DA SE ČUTIM\, DA UŽIVAM IN DA SAMO SEM podaljšek glasbe skozi moje telo!
URL:https://katjabubnic.com/event/zenski-krog-ples-svobodne-in-cutne/
LOCATION:pin 	 Glavna ulica 48\, SI- 9220 Lendava\, Slovenija
ATTACH;FMTTYPE=image/png:https://katjabubnic.com/wp-content/uploads/2019/02/Ženski-Krog-–ples-Svobodne-in-Čutne-Ženske2.png
END:VEVENT
END:VCALENDAR