BEGIN:VCALENDAR
VERSION:2.0
PRODID:-//Katja Bubnič - ECPv6.15.20//NONSGML v1.0//EN
CALSCALE:GREGORIAN
METHOD:PUBLISH
X-WR-CALNAME:Katja Bubnič
X-ORIGINAL-URL:https://katjabubnic.com
X-WR-CALDESC:Dogodki za Katja Bubnič
REFRESH-INTERVAL;VALUE=DURATION:PT1H
X-Robots-Tag:noindex
X-PUBLISHED-TTL:PT1H
BEGIN:VTIMEZONE
TZID:Europe/Paris
BEGIN:DAYLIGHT
TZOFFSETFROM:+0100
TZOFFSETTO:+0200
TZNAME:CEST
DTSTART:20210328T010000
END:DAYLIGHT
BEGIN:STANDARD
TZOFFSETFROM:+0200
TZOFFSETTO:+0100
TZNAME:CET
DTSTART:20211031T010000
END:STANDARD
BEGIN:DAYLIGHT
TZOFFSETFROM:+0100
TZOFFSETTO:+0200
TZNAME:CEST
DTSTART:20220327T010000
END:DAYLIGHT
BEGIN:STANDARD
TZOFFSETFROM:+0200
TZOFFSETTO:+0100
TZNAME:CET
DTSTART:20221030T010000
END:STANDARD
BEGIN:DAYLIGHT
TZOFFSETFROM:+0100
TZOFFSETTO:+0200
TZNAME:CEST
DTSTART:20230326T010000
END:DAYLIGHT
BEGIN:STANDARD
TZOFFSETFROM:+0200
TZOFFSETTO:+0100
TZNAME:CET
DTSTART:20231029T010000
END:STANDARD
END:VTIMEZONE
BEGIN:VEVENT
DTSTART;TZID=Europe/Paris:20220404T080000
DTEND;TZID=Europe/Paris:20220430T170000
DTSTAMP:20260420T174929
CREATED:20220404T092331Z
LAST-MODIFIED:20220404T092611Z
UID:101466-1649059200-1651338000@katjabubnic.com
SUMMARY:Samo iz nežnosti se lahko rodi prava in resnična moč (mesečni obisk v Sestrstvu Divje Vrtnice: april 2022)
DESCRIPTION:ENOMESEČNI OBISK V člansko skupino SESTRSTVO DIVJE VRTNICE ti omogoča sodelovanje v vsebini tistega meseca. Traja od prvega do zadnjega dne tekočega meseca. (sodelovanje na vseh online srečanjih) \nVsak mesec obdelujemo in se poglabljamo v eno temo\, ki je napisana v naslovu \nPo enomesečnem obisku imaš možnost podaljšati svoje članstvo v celoletni paket Sestrstva Divje Vrtnice\, vse do konca januarja 2023 \n  \n\n\n\nDraga Ženska! \nDobrodošla v Sestrstvo Divje Ženske. \nV tvoje izbranem mesecu te čaka: \n1 x predavanje na temo meseca – 60 min \n1x obredni yoni spa – 90 min \n1x jutranji obred s plesom – 30 min \n1 x jutranji obred z masažo prsi ali jogo obraza (odlično od urnika tistega meseca) – 30 min \n10X vprašanja in odgovori ali /in orakelj – 60 min \nTUKAJ KUPIŠ SVOJO VSTOPNICO ZA MESEC APRIL:  https://katjabubnic.com/izdelek/mesecno-clanstvo-v-sestrstvu-divje-vrtnice/ \nNa tej strani pa si še enkrat lahko prebereš več o vsebini in bistvu Sestrstva: https://katjabubnic.com/sestrstvo-divje-vrtnice/ \n 
URL:https://katjabubnic.com/event/samo-iz-neznosti-se-lahko-rodi-prava-in-resnicna-moc-mesecni-obisk-v-sestrstvu-divje-vrtnice-april-2022/
CATEGORIES:Sestrstvo Divje Vrtnice - mesečni obisk
ATTACH;FMTTYPE=image/png:https://katjabubnic.com/wp-content/uploads/2022/04/SESTRSTVO-DIVJE-VRTNICE-e1649067640982.png
END:VEVENT
END:VCALENDAR