BEGIN:VCALENDAR
VERSION:2.0
PRODID:-//Katja Bubnič - ECPv6.15.20//NONSGML v1.0//EN
CALSCALE:GREGORIAN
METHOD:PUBLISH
X-WR-CALNAME:Katja Bubnič
X-ORIGINAL-URL:https://katjabubnic.com
X-WR-CALDESC:Dogodki za Katja Bubnič
REFRESH-INTERVAL;VALUE=DURATION:PT1H
X-Robots-Tag:noindex
X-PUBLISHED-TTL:PT1H
BEGIN:VTIMEZONE
TZID:Europe/Paris
BEGIN:DAYLIGHT
TZOFFSETFROM:+0100
TZOFFSETTO:+0200
TZNAME:CEST
DTSTART:20210328T010000
END:DAYLIGHT
BEGIN:STANDARD
TZOFFSETFROM:+0200
TZOFFSETTO:+0100
TZNAME:CET
DTSTART:20211031T010000
END:STANDARD
BEGIN:DAYLIGHT
TZOFFSETFROM:+0100
TZOFFSETTO:+0200
TZNAME:CEST
DTSTART:20220327T010000
END:DAYLIGHT
BEGIN:STANDARD
TZOFFSETFROM:+0200
TZOFFSETTO:+0100
TZNAME:CET
DTSTART:20221030T010000
END:STANDARD
BEGIN:DAYLIGHT
TZOFFSETFROM:+0100
TZOFFSETTO:+0200
TZNAME:CEST
DTSTART:20230326T010000
END:DAYLIGHT
BEGIN:STANDARD
TZOFFSETFROM:+0200
TZOFFSETTO:+0100
TZNAME:CET
DTSTART:20231029T010000
END:STANDARD
END:VTIMEZONE
BEGIN:VEVENT
DTSTART;TZID=Europe/Paris:20220326T180000
DTEND;TZID=Europe/Paris:20220326T200000
DTSTAMP:20260420T192654
CREATED:20220321T122854Z
LAST-MODIFIED:20220321T122854Z
UID:101441-1648317600-1648324800@katjabubnic.com
SUMMARY:SESTRSKI KROG S PLESOM: "Prisluhnem svoji Duši in Prebudim svoje Telo"
DESCRIPTION:Toplo vabljena v Krog Žensk\, Sester\, kjer se bomo podružile v Krogu.\nSpustile težo tedna\, meseca\, leta….\nIn v sebi poiskale svojo nežnost in mehkobo.\nSkozi petje\, skozi besedo in skozi gib – ples.\nV Varnem prostoru\, kjer lahko si kdor si. \nV tem krogu se ne bomo srečale niti pevke niti plesalke\,\nAmpak ženske\, ki vemo\, da glas zdravi\, da petje polni in povezuje\nIn da naše telo komaj čaka\, da ga premaknemo v ljubeči gib\, kjer skozi ples najde sprostitev\,pretočnost\, mehkobo\, nežnost in divjost.\nPridi in podari si ti dve uri za dušo in telo. \nToplo vabljene ženske vseh starosti in vlog…pod kožo smo vse enake:\nKi rabimo bližino\, varen prostor\, da lahko začutimo sebe\, svojo dušo in telo. \nKDAJ?\nV Soboto\, 26.3.2022. 18-20h. \nKJE?\nV Ljubljani\, po prijavi pošljem kje točno bomo!\nPreglej svoj e-nabiralnik\, tudi spam! \nCENA?\n22 eur (plačaš lahko tudi kar tam) \nKAJ POTREBUJEŠ? \nZvezek in Pisalo\, svojo steklenico z vodo \nOdejico za podlogo \nDolgo krilo ali obleko (seveda lahko tudi kratko\, če dolgega nimaš). \nVESELIM SE TE.\nIN PROSIM PRIDI\, ČE ČUTIŠ KLIC\,\nČETUDI TE JE MORDA ŠE VEDNO STRAH\, DA NE ZNAŠ PLESATI <3\nVerjemi…razmehčale bomo to prepričanje\nin ga korak za korakom odvrgle stran \nObjamem te in se te veselim v našem Krogu\,\nKatja \nNAKUP DOGODKA JE TUKAJ: \nhttps://katjabubnic.com/izdelek/sestrski-krog-s-plesom-prisluhnem-svoji-dusi-in-prebudim-svoje-telo/ \n 
URL:https://katjabubnic.com/event/sestrski-krog-s-plesom-prisluhnem-svoji-dusi-in-prebudim-svoje-telo/
CATEGORIES:Ples,Sestrski Krog - Ženski Krog
ATTACH;FMTTYPE=image/png:https://katjabubnic.com/wp-content/uploads/2022/03/Sestrski_krog_s-Plesom-marec_2022_Katja_Bubnic_2.png
END:VEVENT
END:VCALENDAR