BEGIN:VCALENDAR
VERSION:2.0
PRODID:-//Katja Bubnič - ECPv6.15.20//NONSGML v1.0//EN
CALSCALE:GREGORIAN
METHOD:PUBLISH
X-WR-CALNAME:Katja Bubnič
X-ORIGINAL-URL:https://katjabubnic.com
X-WR-CALDESC:Dogodki za Katja Bubnič
REFRESH-INTERVAL;VALUE=DURATION:PT1H
X-Robots-Tag:noindex
X-PUBLISHED-TTL:PT1H
BEGIN:VTIMEZONE
TZID:UTC
BEGIN:STANDARD
TZOFFSETFROM:+0000
TZOFFSETTO:+0000
TZNAME:UTC
DTSTART:20180101T000000
END:STANDARD
END:VTIMEZONE
BEGIN:VEVENT
DTSTART;TZID=UTC:20190404T170000
DTEND;TZID=UTC:20190404T183000
DTSTAMP:20260422T225226
CREATED:20190322T103634Z
LAST-MODIFIED:20190412T053433Z
UID:619-1554397200-1554402600@katjabubnic.com
SUMMARY:Plesni Krog Naravne Ženske
DESCRIPTION:?PLESNI KROGI NARAVNE ŽENSKE? \nZačuti\, oživi in zaživi Naravno Žensko v sebi \n?Vsaka Ženska v sebi nosi Ples.\nMorda te razganja že ob sami misli na Ples in komaj čakaš\, da se začne glasba\, da se ji lahko predaš.\nMorda te ob besedi Ples grenko stisne v želodcu\, ko si rečeš\, ne\, to pa ni zame.\nMorda z veseljem pogledaš žensko\, ki uživa v plesu.\nMorda si misliš\, kaj neki se tale afna in nastavlja.\nMorda je ples zate oblika življenja.\nMorda imaš občutek\, da plesala nisi še nikoli. \n?Vendar ti zagotavljam\, da je PLES v tebi… doma. V vsaki izmed nas. (o tem\, zakaj sveto verjamem v to\, bom pisala en drug dan). \nIn naša Naravna Ženska\, naša sočnost\, svoboda\, spontanost\, senzualnost\, divjost\, magnetičnost\, čarobnost\, pa tudi mehkoba\, nežnost\, milina se želijo izraziti skozi gib\, skozi glasbo…skozi tvoje telo v prepletu z glasbo.\nIn to je Ples. \n?VABIM TE na naše PLESNE KROGE NARAVNE ŽENSKE\, kjer se bomo srečevale enkrat mesečno in ustvarile varen prostor za raziskovanje svojega telesa\, za odpiranje in Ples. Povabile bomo UŽITEK v svoje življenje. Užitek\, ja…ta sladek občutek\, ko se ustavi čas in si polno hvaležna\, da živiš. Užitek\, brez slabe vesti! \n❤Ustvarile bomo varen prostor za SVOBODNI ples\, kjer boš raziskovala svoj izraz\, kjer boš morda iskala in našla dele sebe\, ki jih sploh še ne poznaš. \nNaš Krog bo namenjen Tebi\, ki globoko v sebi hrepeniš po prebujanju svojih bokov\, topotanju nog\, prepletanju rok in osvobajanju vratu in las. Kajti Ples je čudovito orodje\, da nas zopet postavi v Žensko energijo\, ki nam je v tem drvečem\, moško delujočem svetu\, še kako manjka! \n?ENKRAT MESEČNO SE LAHKO PRIPELJEŠ IZ KATEREGA KOLI KRAJA IZ SLOVENIJE (ob prijavi mi napiši\, od kod si\, da vas lahko povežem med seboj za prevoze). \nVesela sem\, ker se oblikuje skupina razvejane starosti mladih in zrelih žensk\, a zagotovo pogumnih in pripravljenih\, da v svoje življenje pripeljejo več ŽENSTVENOSTI\, PRETOČNOSTI\, SVOBODE IN UŽITKA. \nEdino pravilo je\, da si prineseš dolgo krilo\, kajti iz dolgoletnih izkušenj vem\, da dolgo krilo dela čudeže. Ko se ga oblečeš in že samo hodiš\, se pod njim in okoli tebe ustvarja prav živa energija…in ko ji dodaš glasbo\, nekaj gibov-že imaš Plešočo Žensko ♥ \nPovabim te\, da po želji prineseš nakit\, v katerem se počutiš lepo\, ki poudari tvojo kraljevskost\, zapeljivoST\, tvojo ženstvenost. \nPlesale bomo bose\, oziroma v nagležnicah in bosonogih japonkah\, če jih imaš. (nekaj jih bo na voljo tudi za nakup). Morda kvečjemu v nogavicah\, če ti bo res mraz v stopala. \nVzele si bomo čas zase. Za svojo notranjo Naravno Žensko.\nIn tako\, ko bomo nahranile sebe\, se bomo vrnile polnejše\, bolj zadovoljne v svoje družine in naši odnosi s partnerji in otroki bodo postali lažji in pretočnejši. \n?? Prva ura UVODNI PLESI KROG\, 28.3.2019\, (IZJEMOMA: 17.30 – 19H) je brezlpačna.\nPrihajajoči mesečni datumi do poletja so sledeči:\n• 4.4.2019: 17-18.30h\n• 9.5.2019: 17-18.30h\n• 6.6.2019: 17-18.30h\n• 4.7.2019: 17-18.30h\nCena posameznega Plesnega Kroga je 20 eur.\nPOPUST: Cena vseh štirih plesnih krogov pa je 75 eur.?? \nPRJAVE SO OBVEZNE IN SICER NA SPODNJI POVEZAVI:\nhttps://mailchi.mp/86887d6106f2/plesnikrogi \nProsim bodi točna\, da se skupaj povežemo in vstopimo v Ples.\nVeselim se Te in sem ponosna nate\, da boš naredila nekaj ZASE.. \nKatja
URL:https://katjabubnic.com/event/plesni-krogi-naravne-zenske/
CATEGORIES:Ples
ATTACH;FMTTYPE=image/png:https://katjabubnic.com/wp-content/uploads/2019/03/Plesni-krogi-Naravne-Ženske1.png
END:VEVENT
END:VCALENDAR