BEGIN:VCALENDAR
VERSION:2.0
PRODID:-//Katja Bubnič - ECPv6.15.20//NONSGML v1.0//EN
CALSCALE:GREGORIAN
METHOD:PUBLISH
X-WR-CALNAME:Katja Bubnič
X-ORIGINAL-URL:https://katjabubnic.com
X-WR-CALDESC:Dogodki za Katja Bubnič
REFRESH-INTERVAL;VALUE=DURATION:PT1H
X-Robots-Tag:noindex
X-PUBLISHED-TTL:PT1H
BEGIN:VTIMEZONE
TZID:UTC
BEGIN:STANDARD
TZOFFSETFROM:+0000
TZOFFSETTO:+0000
TZNAME:UTC
DTSTART:20170101T000000
END:STANDARD
END:VTIMEZONE
BEGIN:VEVENT
DTSTART;TZID=UTC:20181221T163000
DTEND;TZID=UTC:20181221T230000
DTSTAMP:20260423T043159
CREATED:20181208T191748Z
LAST-MODIFIED:20181211T183553Z
UID:460-1545409800-1545433200@katjabubnic.com
SUMMARY:Prižgi Divjo Žensko v Sebi
DESCRIPTION:??Draga Sestra\, Nežna in Divja Ženska!?? \nNa solsticij ti pripravljamo prav poseben večer\, ko bomo zaobjele več arhetipov svoje Ženskosti. \n?V prvem delu: 16.30h – 18.30h te vabim na CHASKA ART BAZAR\, kjer boš lahko kupil\, kupila (ja\, tukaj ste vabljeni tudi moški J) še zadnja dragocena DARILA za svoje najdražje (moj makrame nakit in perujsko tradicionalno srebrnino). \n?Ob 17h bom zate pripravilla sočno PREDAVANJE O ŽENSKI KREATIVNI ENERGIJI\, o ustvarjalni energiji\, ki je doma v vsaki izmed nas\, dotaknila se bom kristalov\, makrameja in seveda svoje osebne zgodbe. \n?OD 17.30h do 18.30h sledi SOLSTICIJEVA DELAVNICA  MAKRAME ZAPESTNICE S KRISTALČKI\, ki je namenjena vsem\, tistim z znanjem ali brez predznanja makrameja. \n?Ker moramo 19-20h zapustiti našo plesno dvorano\, se bomo za pavzo podale kar pod njo\, v restavracijo Via Bona\, in si tisto uro uro privoščile POGOVOR O ŽENSKI ESENCI in RITUALIH\, ki ga bo vodila Tamara Mihalič. \n?Če bi rada prišla samo na plesni večer\, te vabim\, da se nam malo pred 20h pridružiš spodaj v restavraciji  Via Bona in nas poiščeš za (verjeto glasno) mizo. \n?Ob 20h se selimo nazaj v plesno dvorano in v krogu nas bom popeljala v ODPIRANJAE SVOJEGA NOTRANJEGA OGNJA. V Telesu bomo poiskale tisto svojo\, morda spečo Divjo Žensko\, jo osvobodile in pripravile do tega\, da bo plesala\, kot da je nihče ne gleda \nIn potem nam preostane samo še to\, da pričakamo naše glasbenike\, se med tem uredimo za naš plesni ritual in \n?Se ob 21h podamo na PLESNO POPOTOVANJE V ARHETIP DIVJE\, ČUTNE ŽENSKE! \nPRISPEVEK za naš dogodek je zelo zelo zelo prijazen\, zato ker sem se tega lotila organizirati iz čistega užitka 🙂 Da se res izplešemo\, podružimo in počastimo Življenje! \n?Prispevek za makrame delavnico čaranja zapestnic je 15 eur.\n?Prispevek za naš divji Ples je 15eur.\n?Predavanje o ustvarjanju\, ritualih in uvod v ples pa so naša darila Tebi!\n? Če se udeležiš vsega skupaj pa le magičnih 25 eur. \nVse dodatne informacije dobiš ob prijavi na email: katja@katjabubnic.com ali 040 654 255\, \nVse dodatne informacije dobiš ob prijavi na email: katja@katjabubnic.com \nSrčno se vas veselimo\, \nKatja\, Tamara in glasbeniki \n**************************************************************************************************************** \nZa nas Boginje\, Divje Ženske\, bodo igrali preizkušeno odlični glasbeniki\, ki se bodo prav za nas povezali v  ECSTATIC FIRE JAM ORCHESTRA. Preigravali bodo  balkanske\, latino\, flamenko\, ciganske ritme. Poznam vsakega izmed njih in sem na njihovo igranje že mnogokrat plesala do onemoglostiJ \nECSTATIC FIRE JAM ORCHESTRA \nAleksander Kuzmič: kitara\, vokal\, duduk\, kaval \nJaka Birsa: saksofon \nDamir Vintar: bas \nAndrej Tomažin: perkusije \nEkskluzivni gost iz Španije: Julien CHanal\, iz skupine Barcelona Gipsy Balcan Orchestra \n******************************************************************************************************************************************\nKaj je zame Divja Ženska? \nTo je tisti prvinski del ženske psihe\, ki je svoboden\, ki rabi svoj prostor\, ustvarjanje\, petje\, ples\, tišino. Tisti del\, ki nas hrani navznoter in ki ni v prvi vrsti povezan z drugimi. Je tisi del nas\, ki pozna naše srčne želje\, hrepenenja\, darove\, pa tudi naše rane in bolečine. Na videz sebičen\, a v resnici samo ljubeč in skrben do nas. Kajti ko Divjo Žensko v sebi negujemo\, potem lahko dajemo svojim ljubim in svetu še več. \nDivja Ženska je tisti del nas\, ki ne pusti\, da ga teptajo. \nAmpak..to ne pomeni\, da se Divja Ženska proti komurkoli bori. Ona ve\, kdo in kaj je in samo za tem stoji.  Divja Ženska ni podivjana. Divja ji pravim zato\, ker je prvobitna. Iskrena. Ker je to kar je in ji ni mar\, kaj si bodo o njej mislili drugi. Da si upa preveč? \nVse Ženske v naši družbi imamo podhranjeno Divjo Žensko. \nKer nas od malega dajejo v kalupe pridnih\, tihih\, ubogljivih in lepih punčk.  Vendar pa je v resnici vsaka samosvoja\, unikatna s svojimi darovi\, hrepenenji in poslanstvi. \nDanes \, na našem plesu\, ni pomembno\, kako izgledaš. Kako plešeš. Ali sploh znaš plesati. \nKajti…že samo to da si Ženska pomeni\,da v sebi nosiš občutek za ples. Občutek…in globoko\, morda komaj slišno potrebo po plesu. \nDanes bomo naši Divji Ženski dovolile\, da premaga svoj sram\, svoj strah\, da ni dovolj dobra\, da so druge boljše\, lepše… \nV pritajeni svetlobi bomo\, oblečene v plešoče boginje slavile Življenje. Se spogledovale s svobodo\, koketnostjo\, srčnostjo in vsem\, kar pride.  Si dovolile iti malo dlje\, kot ponavadi. \nTvoj ples bo verjetno čisto drugačen od mojega. In prav je tako. Ker ti si ti in jaz sem jaz. \nIn če se v plesu srečava in odpleševa skupni ples\, je to en velik OLE\, da skupaj proslaviva Življenje! \nZA ŽMOHTNO SLEDENJE VSEMU V ZVEZI Z DOGODKOM PA SE POVEŽI Z NAMI VA FB\nhttps://www.facebook.com/events/1856019437840835/
URL:https://katjabubnic.com/event/460/
CATEGORIES:bazar,Delavnica,Ples
ATTACH;FMTTYPE=image/png:https://katjabubnic.com/wp-content/uploads/2018/12/Prižgi-Divjo-Žensko-v-sebi3.png
END:VEVENT
END:VCALENDAR